BEGIN:VCALENDAR
VERSION:2.0
PRODID:-//Plone.org//NONSGML plone.app.event//EN
X-WR-TIMEZONE:America/New_York
BEGIN:VEVENT
SUMMARY:CLC Chemistry 111 Finals Review Workshop III
DTSTART;TZID=America/New_York:20210511T130000
DTEND;TZID=America/New_York:20210511T150000
DTSTAMP:20260421T013352Z
UID:7ccd79788fcd41389054c148adfd76f4@172.16.140.7:8080
CATEGORIES:CLC,CLC News,Collaborative Learning Center
CONTACT:https://zoom.us/my/lee.simon
CREATED:20210505T215429Z
DESCRIPTION:Free workshop for Chemistry 111 available from the tutoring se
 rvices at the CLC!
LAST-MODIFIED:20240301T215558Z
LOCATION:Zoom
URL:https://sun3.york.cuny.edu/collaborative-learning-center/announcements
 /clc-chemistry-111-finals-review-workshop-iii
END:VEVENT
BEGIN:VTIMEZONE
TZID:America/New_York
X-LIC-LOCATION:America/New_York
BEGIN:DAYLIGHT
DTSTART:20210314T030000
TZNAME:EDT
TZOFFSETFROM:-0500
TZOFFSETTO:-0400
END:DAYLIGHT
END:VTIMEZONE
END:VCALENDAR
