BEGIN:VCALENDAR
VERSION:2.0
PRODID:-//Plone.org//NONSGML plone.app.event//EN
X-WR-TIMEZONE:America/New_York
BEGIN:VEVENT
SUMMARY:Countdown to Graduation Celebration
DTSTART;TZID=America/New_York:20260303T120000
DTEND;TZID=America/New_York:20260303T140000
DTSTAMP:20260420T094438Z
UID:650bd8153cf343c1ae99b1a452d2e529@172.16.140.7:8080
CATEGORIES:Commencement,2026
CREATED:20251210T185834Z
DESCRIPTION:Join us for a fun kickoff event as we count down to graduation
 ! Enjoy music\, giveaways\, and connect with your fellow graduates.
LAST-MODIFIED:20251210T185840Z
LOCATION:AC-Atrium
URL:https://sun3.york.cuny.edu/commencement-2026/countdown-to-graduation-c
 elebration
END:VEVENT
BEGIN:VTIMEZONE
TZID:America/New_York
X-LIC-LOCATION:America/New_York
BEGIN:STANDARD
DTSTART:20251102T010000
TZNAME:EST
TZOFFSETFROM:-0400
TZOFFSETTO:-0500
END:STANDARD
END:VTIMEZONE
END:VCALENDAR
