BEGIN:VCALENDAR
VERSION:2.0
PRODID:-//Plone.org//NONSGML plone.app.event//EN
X-WR-TIMEZONE:America/New_York
BEGIN:VEVENT
SUMMARY:Auditions
DTSTART;TZID=America/New_York:20180411T160000
DTEND;TZID=America/New_York:20180411T180000
DTSTAMP:20260420T114804Z
UID:6fee1fe49a88492cadf509a483a78222@172.16.140.7:8080
CATEGORIES:student,Theatre Arts,Performing and Fine Arts
CONTACT:tom marion\, 718.262.3705\, tmarion@york.cuny.edu
CREATED:20180319T121859Z
DESCRIPTION:York College Theatre Auditions for Fall 2018
LAST-MODIFIED:20191031T130745Z
LOCATION:Little Theatre - Performing Arts Center
URL:https://sun3.york.cuny.edu/events/2019/event.2018-03-19.9397923968
END:VEVENT
BEGIN:VTIMEZONE
TZID:America/New_York
X-LIC-LOCATION:America/New_York
BEGIN:DAYLIGHT
DTSTART:20180311T030000
TZNAME:EDT
TZOFFSETFROM:-0500
TZOFFSETTO:-0400
END:DAYLIGHT
END:VTIMEZONE
END:VCALENDAR
