BEGIN:VCALENDAR
VERSION:2.0
PRODID:-//Plone.org//NONSGML plone.app.event//EN
X-WR-TIMEZONE:America/New_York
BEGIN:VEVENT
SUMMARY:Scholarship Workshop: Tuesday Foundation Series (Spring 2019 #2)
DTSTART;TZID=America/New_York:20180205T120000
DTEND;TZID=America/New_York:20180205T130000
DTSTAMP:20260420T174834Z
UID:af1daa3b4f27476faa5e6e080ec77700@172.16.140.7:8080
CATEGORIES:Scholarship Center,student
CONTACT:Julissa Contreras\, (718) 262-5343\, jcontreras@york.cuny.edu
CREATED:20190111T161530Z
DESCRIPTION:We will be discussing Foundation Scholarship opportunities and
  how to apply for them!
LAST-MODIFIED:20190111T180642Z
LOCATION:AC-4DA1
URL:https://sun3.york.cuny.edu/events/2019/event.2019-01-11.5706216137
END:VEVENT
BEGIN:VTIMEZONE
TZID:America/New_York
X-LIC-LOCATION:America/New_York
BEGIN:STANDARD
DTSTART:20171105T010000
TZNAME:EST
TZOFFSETFROM:-0400
TZOFFSETTO:-0500
END:STANDARD
END:VTIMEZONE
END:VCALENDAR
