BEGIN:VCALENDAR
VERSION:2.0
PRODID:-//Plone.org//NONSGML plone.app.event//EN
X-WR-TIMEZONE:America/New_York
BEGIN:VEVENT
SUMMARY:FLY Week #3 Mobility Sunday - Rec On-Demand Workout Program
DTSTART;VALUE=DATE:20210131
DTEND;VALUE=DATE:20210201
DTSTAMP:20260419T102800Z
UID:a493684fba244252b95a1500facc2891@172.16.140.7:8080
CATEGORIES:Athletics Digital Signage,employee,Athletics,ds,employee featur
 ed,student,Student Activities
CONTACT:John Baxter\, jbaxter@york.cuny.edu\, https://youtu.be/iA5913-3BrI
CREATED:20210105T152253Z
DESCRIPTION:Recreation presents the FLY workout program with Mobility Sund
 ay of Week #3. The FLY workout program features 5-weeks of dynamic structu
 red workouts available on-demand.
LAST-MODIFIED:20210105T152354Z
LOCATION:https://www.yorkathletics.com/fly
URL:https://sun3.york.cuny.edu/events/2021/fly-week-3-mobility-sunday---re
 c-on-demand-workout-program
END:VEVENT
END:VCALENDAR
