BEGIN:VCALENDAR
VERSION:2.0
PRODID:-//Plone.org//NONSGML plone.app.event//EN
X-WR-TIMEZONE:America/New_York
BEGIN:VEVENT
SUMMARY:RISE Week #3 Full Body Monday - Rec On-Demand Workout Program
DTSTART;TZID=America/New_York:20210104T103000
DTSTAMP:20260420T094458Z
UID:57446083effa45538b919bfed1da9751@172.16.140.7:8080
CATEGORIES:Athletics Digital Signage,employee,Athletics,ds,employee featur
 ed,student,Student Activities
CONTACT:John Baxter\, jbaxter@york.cuny.edu\, https://youtu.be/fTsmB1XALGc
CREATED:20201218T175527Z
DESCRIPTION:Recreation presents the RISE Workout Program with Full Body Mo
 nday of Week #3. The RISE Workout Program features 5-weeks of dynamic stru
 ctured workouts available on-demand.
LAST-MODIFIED:20210104T124552Z
LOCATION:https://www.yorkathletics.com/rise
URL:https://sun3.york.cuny.edu/events/2021/rise-week-3-full-body-monday---
 rec-on-demand-workout-program
END:VEVENT
BEGIN:VTIMEZONE
TZID:America/New_York
X-LIC-LOCATION:America/New_York
BEGIN:STANDARD
DTSTART:20201101T010000
TZNAME:EST
TZOFFSETFROM:-0400
TZOFFSETTO:-0500
END:STANDARD
END:VTIMEZONE
END:VCALENDAR
