BEGIN:VCALENDAR
VERSION:2.0
PRODID:-//Plone.org//NONSGML plone.app.event//EN
X-WR-TIMEZONE:America/New_York
BEGIN:VEVENT
SUMMARY:Women's Volleyball vs. Hunter College
DTSTART;TZID=America/New_York:20211011T100000
DTSTAMP:20260420T133658Z
UID:58cd7ed677754ba8b202a0aab5b8a88e@172.16.140.7:8080
CATEGORIES:Athletics Digital Signage,employee,Athletics,ds,employee featur
 ed,student,Student Activities
CONTACT:York Athletics\, yorkathletics@york.cuny.edu\, https://yorkathleti
 cs.com/fans
CREATED:20210911T040946Z
DESCRIPTION:York College Cardinals take the court for a Women’s Volleyba
 ll CUNYAC matchup at home against the Hunter College Hawks!
LAST-MODIFIED:20211011T012929Z
LOCATION:York College Gymnasium
URL:https://sun3.york.cuny.edu/events/2021/womens-volleyball-vs-hunter-col
 lege-21
END:VEVENT
BEGIN:VTIMEZONE
TZID:America/New_York
X-LIC-LOCATION:America/New_York
BEGIN:DAYLIGHT
DTSTART:20210314T030000
TZNAME:EDT
TZOFFSETFROM:-0500
TZOFFSETTO:-0400
END:DAYLIGHT
END:VTIMEZONE
END:VCALENDAR
