BEGIN:VCALENDAR
VERSION:2.0
PRODID:-//Plone.org//NONSGML plone.app.event//EN
X-WR-TIMEZONE:America/New_York
BEGIN:VEVENT
SUMMARY:Poetry Reading by Sarah Wyman
DTSTART;TZID=America/New_York:20220427T180000
DTEND;TZID=America/New_York:20220427T190000
DTSTAMP:20260421T071313Z
UID:e9095eac29cd4e19877bb7c97bec84b7@172.16.140.7:8080
CATEGORIES:Current Students,English,Student Activities
CONTACT:Jim Papa\, jpapa@york.cuny.edu
CREATED:20220412T003721Z
DESCRIPTION:Celebrate National Poetry Month At York College with a virtual
  poetry reading by Sarah Wyman
LAST-MODIFIED:20220422T214149Z
LOCATION:Zoom
URL:https://sun3.york.cuny.edu/events/2022/poetry-reading-by-sarah-wyman
END:VEVENT
BEGIN:VTIMEZONE
TZID:America/New_York
X-LIC-LOCATION:America/New_York
BEGIN:DAYLIGHT
DTSTART:20220313T030000
TZNAME:EDT
TZOFFSETFROM:-0500
TZOFFSETTO:-0400
END:DAYLIGHT
END:VTIMEZONE
END:VCALENDAR
