BEGIN:VCALENDAR
VERSION:2.0
PRODID:-//Plone.org//NONSGML plone.app.event//EN
X-WR-TIMEZONE:America/New_York
BEGIN:VEVENT
SUMMARY:Women’s Basketball vs. CCNY
DTSTART;TZID=America/New_York:20240130T170000
DTSTAMP:20260421T122958Z
UID:a0cf67080e754b76b2e758b268b7fa4a@172.16.140.7:8080
CATEGORIES:Athletics Digital Signage,employee,Athletics,ds,employee featur
 ed,student,Student Activities
CONTACT:York Athletics\, yorkathletics@york.cuny.edu\, https://yorkathleti
 cs.com/calendar
CREATED:20210911T030733Z
DESCRIPTION:York College Cardinals collide with the City College of New Yo
 rk Beavers at home in a CUNYAC Women's Basketball showdown!
LAST-MODIFIED:20240417T170229Z
LOCATION:York College Gymnasium
URL:https://sun3.york.cuny.edu/events/2024/womens-basketball-vs-ccny-01302
 024
END:VEVENT
BEGIN:VTIMEZONE
TZID:America/New_York
X-LIC-LOCATION:America/New_York
BEGIN:STANDARD
DTSTART:20231105T010000
TZNAME:EST
TZOFFSETFROM:-0400
TZOFFSETTO:-0500
END:STANDARD
END:VTIMEZONE
END:VCALENDAR
