BEGIN:VCALENDAR
VERSION:2.0
PRODID:-//Plone.org//NONSGML plone.app.event//EN
X-WR-TIMEZONE:America/New_York
BEGIN:VEVENT
SUMMARY:Let's Talk Career Success
DTSTART;TZID=America/New_York:20250326T120000
DTEND;TZID=America/New_York:20250326T140000
DTSTAMP:20260420T115450Z
UID:252db644837f4895ad5a6316224707bd@172.16.140.7:8080
CATEGORIES:Political Science,ds,Behavioral Sciences
CONTACT:Robin A. Harper\, Ph.D.\, rharper@york.cuny.edu
CREATED:20250310T193849Z
DESCRIPTION:Join Dr. Renee Van Vechten and 2025 York College awardees to e
 xplore student career success!
LAST-MODIFIED:20260112T162953Z
LOCATION:AC-3B04
URL:https://sun3.york.cuny.edu/events/2025/lets-talk-career-success
END:VEVENT
BEGIN:VTIMEZONE
TZID:America/New_York
X-LIC-LOCATION:America/New_York
BEGIN:DAYLIGHT
DTSTART:20250309T030000
TZNAME:EDT
TZOFFSETFROM:-0500
TZOFFSETTO:-0400
END:DAYLIGHT
END:VTIMEZONE
END:VCALENDAR
