BEGIN:VCALENDAR
VERSION:2.0
PRODID:-//Plone.org//NONSGML plone.app.event//EN
X-WR-TIMEZONE:America/New_York
BEGIN:VEVENT
SUMMARY:Citations Made Easy
DTSTART:20241107T180000Z
DTEND:20241107T190000Z
DTSTAMP:20260420T093826Z
UID:1d1ab7d465cf4f29a5472b3d5d87c1a3@172.16.140.7:8080
CATEGORIES:Student Affairs,Student Success Sessions
CONTACT:Shayla Pruitt\, (718) 262-5161\, Spruitt@york.cuny.edu
CREATED:20240920T161126Z
DESCRIPTION:Want to sharpen specific library research skills?  Join our Li
 brary Mini-Workshops!  These 1-hour sessions are designed to boost your co
 nfidence with targeted skills.  Each workshop covers a different topic\, h
 elping you tackle assignments effectively.  Attending one gets you 1/3 of 
 the way to earning an FYE Information Literacy digital badge (SP24 and FA2
 4 freshmen and new transfer students are eligible for the badge). Space is
  limited\, so register early.
LAST-MODIFIED:20250904T151750Z
LOCATION:Library classroom AC-3G09
URL:https://sun3.york.cuny.edu/fye/student-success-sessions/citations-made
 -easy
END:VEVENT
END:VCALENDAR
