BEGIN:VCALENDAR
VERSION:2.0
PRODID:-//Plone.org//NONSGML plone.app.event//EN
X-WR-TIMEZONE:America/New_York
BEGIN:VEVENT
SUMMARY:Generic Nursing Information Session
DTSTART;TZID=America/New_York:20121113T100000
DTEND;TZID=America/New_York:20121113T103000
DTSTAMP:20260424T080925Z
UID:0678f7aab80044a2942cb9514f9cd537@172.16.140.7:8080
CATEGORIES:Health Professions,Nursing
CONTACT:Nursing Program Office\, 718-262-2054
CREATED:20121105T181546Z
DESCRIPTION:This information session is a make-up for the cancellation on 
 10/30/12 due to Hurricane Sandy. The requirements for the generic nursing 
 program will be reviewed.
LAST-MODIFIED:20170331T163724Z
LOCATION:SC103
URL:https://sun3.york.cuny.edu/nursing/generic-nursing-information-session
 -2
END:VEVENT
BEGIN:VTIMEZONE
TZID:America/New_York
X-LIC-LOCATION:America/New_York
BEGIN:STANDARD
DTSTART:20121104T010000
TZNAME:EST
TZOFFSETFROM:-0400
TZOFFSETTO:-0500
END:STANDARD
END:VTIMEZONE
END:VCALENDAR
