BEGIN:VCALENDAR
VERSION:2.0
PRODID:-//Plone.org//NONSGML plone.app.event//EN
X-WR-TIMEZONE:America/New_York
BEGIN:VEVENT
SUMMARY:Open House: Nursing Program May 10th
DTSTART;TZID=America/New_York:20120510T130000
DTEND;TZID=America/New_York:20120510T150000
DTSTAMP:20260425T171205Z
UID:c39aa8484e0b4861af87171290ce0d3f@172.16.140.7:8080
CATEGORIES:Nursing,Health Professions
CONTACT:Joanne Lavin\, 718-262-2054\, JLavin@york.cuny.edu
CREATED:20120207T184235Z
DESCRIPTION:If You Are Interested In Nursing Programs At York College Thes
 e Open Houses Will Provide Essential Information   
LAST-MODIFIED:20170331T163723Z
LOCATION:Science Nursing Lab 133
URL:https://sun3.york.cuny.edu/nursing/open-house-nursing-program-5-10
END:VEVENT
BEGIN:VTIMEZONE
TZID:America/New_York
X-LIC-LOCATION:America/New_York
BEGIN:DAYLIGHT
DTSTART:20120311T030000
TZNAME:EDT
TZOFFSETFROM:-0500
TZOFFSETTO:-0400
END:DAYLIGHT
END:VTIMEZONE
END:VCALENDAR
