BEGIN:VCALENDAR
VERSION:2.0
PRODID:-//Plone.org//NONSGML plone.app.event//EN
X-WR-TIMEZONE:America/New_York
BEGIN:VEVENT
SUMMARY:RN-BSN Group Information Session
DTSTART;TZID=America/New_York:20141029T070000
DTEND;TZID=America/New_York:20141029T073000
DTSTAMP:20260425T220347Z
UID:c43c0b4d965a4a5ba70649321d818258@172.16.140.7:8080
CATEGORIES:Prospective Student,Nursing
CONTACT:Keteya Harrison-Melville\, 718-262-2054\, nursing@york.cuny.edu
CREATED:20141010T173416Z
DESCRIPTION:The group information sessions are designed for individuals th
 at are not York College students and require more information about the RN
 -BSN program. 
LAST-MODIFIED:20171205T191443Z
LOCATION:SC-103
URL:https://sun3.york.cuny.edu/nursing/rn-bsn-group-information-session
END:VEVENT
BEGIN:VTIMEZONE
TZID:America/New_York
X-LIC-LOCATION:America/New_York
BEGIN:DAYLIGHT
DTSTART:20140309T030000
TZNAME:EDT
TZOFFSETFROM:-0500
TZOFFSETTO:-0400
END:DAYLIGHT
END:VTIMEZONE
END:VCALENDAR
