BEGIN:VCALENDAR
VERSION:2.0
PRODID:-//Plone.org//NONSGML plone.app.event//EN
X-WR-TIMEZONE:America/New_York
BEGIN:VEVENT
SUMMARY:We Forward In This Generation
DTSTART;TZID=America/New_York:20170510T190000
DTEND;TZID=America/New_York:20170510T203000
DTSTAMP:20260421T073324Z
UID:94aa462eb8e7497bb397103126f247f8@172.16.140.7:8080
CATEGORIES:Performing and Fine Arts,student,Performing Arts
CONTACT:Tom Marion\, 718.262.3705\, tmarion@york.cuny.edu
CREATED:20170426T171408Z
DESCRIPTION:By Ashlee Alexander
LAST-MODIFIED:20231208T162953Z
LOCATION:York College Little Theatre at The Milton G. Bassin Center for th
 e Performing Arts
URL:https://sun3.york.cuny.edu/performing-fine-arts/events/2016-17/event.2
 017-04-26.8487195347
END:VEVENT
BEGIN:VTIMEZONE
TZID:America/New_York
X-LIC-LOCATION:America/New_York
BEGIN:DAYLIGHT
DTSTART:20170312T030000
TZNAME:EDT
TZOFFSETFROM:-0500
TZOFFSETTO:-0400
END:DAYLIGHT
END:VTIMEZONE
END:VCALENDAR
