BEGIN:VCALENDAR
VERSION:2.0
PRODID:-//Plone.org//NONSGML plone.app.event//EN
X-WR-TIMEZONE:America/New_York
BEGIN:VEVENT
SUMMARY:Final Examinations
DTSTART;TZID=America/New_York:20251218T000000
DTEND;TZID=America/New_York:20251218T235900
DTSTAMP:20260420T012246Z
UID:b996bd8b0a1d478c844981d19e7fa0b2@172.16.140.7:8080
CATEGORIES:2025,Fall,student,Academic Calendar
CREATED:20250312T135953Z
DESCRIPTION:Final Examinations.
LAST-MODIFIED:20250312T135958Z
URL:https://sun3.york.cuny.edu/registrar/calendar/fall/final-examinations-
 4
END:VEVENT
BEGIN:VTIMEZONE
TZID:America/New_York
X-LIC-LOCATION:America/New_York
BEGIN:STANDARD
DTSTART:20251102T010000
TZNAME:EST
TZOFFSETFROM:-0400
TZOFFSETTO:-0500
END:STANDARD
END:VTIMEZONE
END:VCALENDAR
