BEGIN:VCALENDAR
VERSION:2.0
PRODID:-//Plone.org//NONSGML plone.app.event//EN
X-WR-TIMEZONE:America/New_York
BEGIN:VEVENT
SUMMARY:Last day for classes
DTSTART;VALUE=DATE:20231211
DTEND;VALUE=DATE:20231212
DTSTAMP:20260420T204729Z
UID:00d8d6e12e25443cab352c44a1b8a33d@172.16.140.7:8080
CATEGORIES:Fall,ds,Academic Calendar
CREATED:20230130T195321Z
DESCRIPTION:Last day for classes
LAST-MODIFIED:20231203T125321Z
URL:https://sun3.york.cuny.edu/registrar/calendar/last-day-for-classes----
 ----
END:VEVENT
END:VCALENDAR
