BEGIN:VCALENDAR
VERSION:2.0
PRODID:-//Plone.org//NONSGML plone.app.event//EN
X-WR-TIMEZONE:America/New_York
BEGIN:VEVENT
SUMMARY:Census date – Form-A cutoff
DTSTART:20250104T050000Z
DTEND:20250105T045900Z
DTSTAMP:20260420T044507Z
UID:7a0563003c9f40349f95de2a5bd9c25c@172.16.140.7:8080
CATEGORIES:student,Winter,Academic Calendar
CREATED:20240313T150946Z
DESCRIPTION:Cutoff dated for Form-A Census
LAST-MODIFIED:20240313T151039Z
URL:https://sun3.york.cuny.edu/registrar/calendar/winter/census-date-form-
 a-cutoff
END:VEVENT
END:VCALENDAR
