BEGIN:VCALENDAR
VERSION:2.0
PRODID:-//Plone.org//NONSGML plone.app.event//EN
X-WR-TIMEZONE:America/New_York
BEGIN:VEVENT
SUMMARY:MSW Virtual Information Session – Jan 25\, 2023
DTSTART;TZID=America/New_York:20230125T180000
DTEND;TZID=America/New_York:20230125T193000
DTSTAMP:20260420T162626Z
UID:e030d9b838814cb8a3b84dc4e1f8593e@172.16.140.7:8080
CATEGORIES:Social Work,MSW,MSW Information Sessions,Prospective Student
CONTACT:Isabelle Hubert\, msw@york.cuny.edu\, https://us02web.zoom.us/j/83
 381145762?pwd=eE1nY2pFOGdsYVhMaTIvcGFBckxpdz09
CREATED:20221214T180329Z
DESCRIPTION:Graduate social work information sessions are available in per
 son and virtually to help you consider the critical decision and benefits 
 of pursuing your academic journey in the MSW Program at CUNY York College.
LAST-MODIFIED:20240909T203509Z
LOCATION:Zoom Meeting
URL:https://sun3.york.cuny.edu/social-work/msw/msw-information-sessions/ms
 w-virtual-information-session--wednesday---
END:VEVENT
BEGIN:VTIMEZONE
TZID:America/New_York
X-LIC-LOCATION:America/New_York
BEGIN:STANDARD
DTSTART:20221106T010000
TZNAME:EST
TZOFFSETFROM:-0400
TZOFFSETTO:-0500
END:STANDARD
END:VTIMEZONE
END:VCALENDAR
