BEGIN:VCALENDAR
VERSION:2.0
PRODID:-//Plone.org//NONSGML plone.app.event//EN
X-WR-TIMEZONE:America/New_York
BEGIN:VEVENT
SUMMARY:Study Up For Finals - Dec. 14
DTSTART:20231214T220000Z
DTEND:20231215T000000Z
DTSTAMP:20260425T135207Z
UID:5584b1c257344c648af7a323adc55ce4@172.16.140.7:8080
CATEGORIES:Student Affairs,ds,Welcome Center
CONTACT:Welcome Center\, 718-262-2708\, welcomecenter@york.cuny.edu
CREATED:20231213T184851Z
DESCRIPTION:Cardinals! Stop by the Welcome Center and grab a hot beverage 
 to drink while you study for final exams!
LAST-MODIFIED:20250821T175205Z
LOCATION:Welcome Center
URL:https://sun3.york.cuny.edu/student-affairs/study-up-for-finals
END:VEVENT
END:VCALENDAR
